Workbook

Sheet OPĆI DIO (sažetak izv.)
A1: Glazbena škola Blagoja Berse
A2: Zagreb, Britanski trg 5
A4: U Zagrebu, 7. srpnja 2023. g.
A12: POLUGODIŠNJI IZVJEŠTAJ O IZVRŠENJU FINANCIJSKOG PLANA
A13: ZA 2023. GODINU
A16: PRIHODI I RASHODI TEKUĆE GODINE | B16: Izvršenje | C16: Financijski | D16: Izvršenje za
B17: za 1.-6. 2022. | C17: plan za 2023. | D17: 1.-6. 2023.
A18: PRIHODI UKUPNO | B18: =B19+B20 -> 720224.69 | C18: =C19+C20 -> 1549970 | D18: =D19+D20 -> 777719.81
A19: 6 PRIHODI POSLOVANJA | B19: 720224.69 | C19: 1549970 | D19: 777719.81
A20: 7 PRIHODI OD PRODAJE NEFINANCIJSKE IMOVINE | B20: 0 | C20: 0 | D20: 0
A21: RASHODI UKUPNO | B21: =B22+B23 -> 694250.41 | C21: =C22+C23 -> 1594670 | D21: =D22+D23 -> 775347.28
A22: 3 RASHODI POSLOVANJA | B22: 687379.34 | C22: 1485610 | D22: 774759.1
A23: 4 RASHODI ZA NABAVU NEFINANCIJSKE IMOVINE | B23: 6871.0678 | C23: 109060 | D23: 588.18
A24: RAZLIKA – VIŠAK I MANJAK | B24: =B18-B21 -> 25974.276 | C24: =C18-C21 -> -44700 | D24: =D18-D21 -> 2372.53
A26: VIŠAK/MANJAK | B26: Izvršenje | C26: Financijski | D26: Izvršenje za
B27: za 1.-6. 2022. | C27: plan za 2023. | D27: 1.-6. 2023.
A28: UKUPAN DONOS VIŠKA IZ PRETHODNE(IH) GODINA | B28: 63590.732 | C28: 45100 | D28: 83965.12
A29: DIO VIŠKA IZ PRETHODNE(IH) GODINA KOJI SE RASPOREDIO/POTROŠIO | B29: 6740.9994 | C29: =C28 -> 45100 | D29: =398.18+256.04 -> 654.22
A31: RAČUN FINANCIRANJA | B31: Izvršenje | C31: Financijski | D31: Izvršenje za
B32: za 1.-6. 2022. | C32: plan za 2023. | D32: 1.-6. 2023.
A33: 8 PRIMICI OD FINANCIJSKE IMOVINE I ZADUŽIVANJA | B33: 0 | C33: 0 | D33: 0
A34: 5 IZDACI ZA FINANCIJSKU IMOVINU I OTPLATE ZAJMOVA | B34: 187.13916 | C34: 400 | D34: 187.14
A35: NETO FINANCIRANJE | B35: =B33-B34 -> -187.13916 | C35: =C33-C34 -> -400 | D35: =D33-D34 -> -187.14
A37: VIŠAK I MANJAK + NETO FINANCIRANJE | B37: =B24+B35 -> 25787.137 | C37: =C24+C35 -> -45100 | D37: =D24+D35 -> 2185.39

Sheet OPĆI DIO (izv. po ekon. klas.)
A1: Brojčana | B1: Naziv računa | C1: Izvršenje | D1: Izvorni | E1: Izvršenje | F1: Indeks | G1: Indeks
A2: oznaka | C2: za 1.-6. 2022. | D2: plan 2023. | E2: za 1.-6. 2023. | F2: 5/3 | G2: 5/4
A3: 1 | B3: 2 | C3: 3 | D3: 4 | E3: 5 | F3: 6 | G3: 7
A4: 6 | B4: PRIHODI POSLOVANJA | C4: =C5+C8+C11+C17+C21 -> 720224.69 | D4: =D5+D8+D11+D14+D17+D21 -> 1549970 | E4: =E5+E8+E11+E17+E21 -> 777719.81 | F4: =(E4/C4)*100 -> 107.98294 | G4: =(E4/D4)*100 -> 50.176443
A5: 63 | B5: Pomoći iz inozemstva i od subjekata unutar općeg proračuna | C5: =C6 -> 591257.64 | D5: =D6 -> 1264000 | E5: =E6 -> 657113 | F5: =(E5/C5)*100 -> 111.13818 | G5: =(E5/D5)*100 -> 51.986788
A6: 636 | B6: Pomoći proračunskim korisnicima iz proračuna koji im nije nadležan | C6: =C7 -> 591257.64 | D6: 1264000 | E6: =E7 -> 657113 | F6: =(E6/C6)*100 -> 111.13818 | G6: =(E6/D6)*100 -> 51.986788
A7: 6361 | B7: Tekuće pomoći proračunskim korisnicima iz proračuna koji im nije nadležan | C7: 591257.64 | E7: 657113 | F7: =(E7/C7)*100 -> 111.13818
A8: 64 | B8: Prihodi od imovine | C8: =C9 -> 0.72068485 | D8: =D9 -> 100 | E8: =E9 -> 0.01 | F8: =(E8/C8)*100 -> 1.3875691 | G8: =(E8/D8)*100 -> 0.01
A9: 641 | B9: Prihodi od financijske imovine | C9: =C10 -> 0.72068485 | D9: 100 | E9: =E10 -> 0.01 | F9: =(E9/C9)*100 -> 1.3875691 | G9: =(E9/D9)*100 -> 0.01
A10: 6413 | B10: Kamate na oročena sredstva i depozite po viđenju | C10: 0.72068485 | E10: 0.01 | F10: =(E10/C10)*100 -> 1.3875691
A11: 65 | B11: Prihodi od upravnih i administrativnih pristojbi, pristojbi po posebnim propisima i naknada | C11: =C12 -> 73351.171 | D11: =D12 -> 107200 | E11: =E12 -> 66666.75 | F11: =(E11/C11)*100 -> 90.887097 | G11: =(E11/D11)*100 -> 62.189132
A12: 652 | B12: Prihodi po posebnim propisima | C12: =C13 -> 73351.171 | D12: 107200 | E12: =E13 -> 66666.75 | F12: =(E12/C12)*100 -> 90.887097 | G12: =(E12/D12)*100 -> 62.189132
A13: 6526 | B13: Ostali nespomenuti prihodi | C13: 73351.171 | E13: 66666.75 | F13: =(E13/C13)*100 -> 90.887097
A14: 66 | B14: Prihodi od prodaje proizvoda i robe te pruženih usluga i prihodi od donacija | C14: =C15 -> 0 | D14: =D15 -> 3100 | E14: =E15 -> 0 | F14: - | G14: =(E14/D14)*100 -> 0
A15: 663 | B15: Donacije od pravnih i fizičkih osoba izvan općeg proračuna | C15: =C16 -> 0 | D15: 3100 | E15: =E16 -> 0 | F15: - | G15: =(E15/D15)*100 -> 0
A16: 6632 | B16: Kapitalne donacije | C16: 0 | E16: 0 | F16: -
A17: 67 | B17: Prihodi iz nadležnog proračuna i od HZZO-a temeljem ugovornih obveza | C17: =C18 -> 55615.15 | D17: =D18 -> 175470 | E17: =E18 -> 53885.4 | F17: =(E17/C17)*100 -> 96.889786 | G17: =(E17/D17)*100 -> 30.709181
A18: 671 | B18: Prihodi iz nadležnog proračuna za financiranje redovne djelatnosti proračunskih korisnika | C18: =C19+C20 -> 55615.15 | D18: =_xlfn.XLOOKUP(A18,[1]Sheet4!A$29:A$49,[1]Sheet4!C$29:C$49) -> 175470 | E18: =E19 -> 53885.4 | F18: =(E18/C18)*100 -> 96.889786 | G18: =(E18/D18)*100 -> 30.709181
A19: 6711 | B19: Prihodi iz nadležnog proračuna za financiranje rashoda poslovanja | C19: 55615.15 | E19: 53885.4 | F19: =(E19/C19)*100 -> 96.889786
A20: 6712 | B20: Prihodi iz nadležnog proračuna za financiranje rashoda za nabavu nefinancijske imovine | C20: 0 | E20: 0 | F20: -
A21: 68 | B21: Kazne, upravne mjere i ostali prihodi | C21: =C22 -> 0 | D21: =D22 -> 100 | E21: =E22 -> 54.65 | F21: - | G21: -
A22: 683 | B22: Ostali prihodi | C22: =C23 -> 0 | D22: 100 | E22: =E23 -> 54.65 | F22: - | G22: -
A23: 6831 | B23: Ostali prihodi | C23: 0 | E23: 54.65 | F23: -
A24: 3 | B24: RASHODI POSLOVANJA | C24: =C25+C33+C62+C66 -> 687379.34 | D24: =D25+D33+D62+D66 -> 1485610 | E24: =E25+E33+E62+E66 -> 774759.1 | F24: =(E24/C24)*100 -> 112.71201 | G24: =(E24/D24)*100 -> 52.150908
A25: 31 | B25: Rashodi za zaposlene | C25: =C26+C29+C31 -> 574513.57 | D25: =D26+D29+D31 -> 1232400 | E25: =E26+E29+E31 -> 642669.12 | F25: =(E25/C25)*100 -> 111.86317 | G25: =(E25/D25)*100 -> 52.14777
A26: 311 | B26: Plaće (Bruto) | C26: =C27+C28 -> 484579.88 | D26: 1049500 | E26: =E27+E28 -> 541289.77 | F26: =(E26/C26)*100 -> 111.7029 | G26: =(E26/D26)*100 -> 51.575967
A27: 3111 | B27: Plaće za redovan rad | C27: 456020.7 | E27: 508817.2 | F27: =(E27/C27)*100 -> 111.57766
A28: 3113 | B28: Plaće za prekovremeni rad | C28: 28559.18 | E28: 32472.57 | F28: =(E28/C28)*100 -> 113.70274
A29: 312 | B29: Ostali rashodi za zaposlene | C29: =C30 -> 11243.14 | D29: 24200 | E29: =E30 -> 19321.24 | F29: =(E29/C29)*100 -> 171.84914 | G29: =(E29/D29)*100 -> 79.839835
A30: 3121 | B30: Ostali rashodi za zaposlene | C30: 11243.14 | E30: 19321.24 | F30: =(E30/C30)*100 -> 171.84914
A31: 313 | B31: Doprinosi na plaće | C31: =C32 -> 78690.558 | D31: 158700 | E31: =E32 -> 82058.11 | F31: =(E31/C31)*100 -> 104.27949 | G31: =(E31/D31)*100 -> 51.706434
A32: 3132 | B32: Doprinosi za obvezno zdravstveno osiguranje | C32: 78690.558 | E32: 82058.11 | F32: =(E32/C32)*100 -> 104.27949
A33: 32 | B33: Materijalni rashodi | C33: =C34+C38+C44+C54+C56 -> 109710.14 | D33: =D34+D38+D44+D54+D56 -> 242950 | E33: =E34+E38+E44+E54+E56 -> 126047.13 | F33: =(E33/C33)*100 -> 114.89105 | G33: =(E33/D33)*100 -> 51.881922
A34: 321 | B34: Naknade troškova zaposlenima | C34: =C35+C36+C37 -> 28959.709 | D34: 49550 | E34: =E35+E36+E37 -> 37375.6 | F34: =(E34/C34)*100 -> 129.06069 | G34: =(E34/D34)*100 -> 75.430071
A35: 3211 | B35: Službena putovanja | C35: 12718.917 | E35: 24213.05 | F35: =(E35/C35)*100 -> 190.37038
A36: 3212 | B36: Naknade za prijevoz, za rad na terenu i odvojeni život | C36: 15885.095 | E36: 12579.19 | F36: =(E36/C36)*100 -> 79.188634
A37: 3213 | B37: Stručno usavršavanje zaposlenika | C37: 355.69713 | E37: 583.36 | F37: =(E37/C37)*100 -> 164.0047
A38: 322 | B38: Rashodi za materijal i energiju | C38: =C39+C40+C41+C42+C43 -> 11493.485 | D38: 35100 | E38: =E39+E40+E41+E42+E43 -> 10566.05 | F38: =(E38/C38)*100 -> 91.930779 | G38: =(E38/D38)*100 -> 30.102707
A39: 3221 | B39: Uredski materijal i ostali materijalni rashodi | C39: 3956.5532 | E39: 4288.65 | F39: =(E39/C39)*100 -> 108.39359
A40: 3222 | B40: Materijal i sirovine | C40: 796.31827 | E40: 253.07 | F40: =(E40/C40)*100 -> 31.780007
A41: 3223 | B41: Energija | C41: 3619.5156 | E41: 5202.62 | F41: =(E41/C41)*100 -> 143.73802
A42: 3224 | B42: Materijal i dijelovi za tekuće i investicijsko održavanje | C42: 640.9065 | E42: 145.19 | F42: =(E42/C42)*100 -> 22.653851
A43: 3225 | B43: Sitni inventar i auto gume | C43: 2480.1911 | E43: 676.52 | F43: =(E43/C43)*100 -> 27.27693
A44: 323 | B44: Rashodi za usluge | C44: =C45+C46+C47+C48+C49+C50+C51+C52+C53 -> 42687.458 | D44: 115390 | E44: =E45+E46+E47+E48+E49+E50+E51+E52+E53 -> 59768.02 | F44: =(E44/C44)*100 -> 140.01307 | G44: =(E44/D44)*100 -> 51.796533
A45: 3231 | B45: Usluge telefona, pošte i prijevoza | C45: 1479.2979 | E45: 1352.49 | F45: =(E45/C45)*100 -> 91.427832
A46: 3232 | B46: Usluge tekućeg i investicijskog održavanja | C46: 4518.0822 | E46: 19400.39 | F46: =(E46/C46)*100 -> 429.39436
A47: 3233 | B47: Usluge promidžbe i informiranja | C47: 759.30719 | E47: 127.44 | F47: =(E47/C47)*100 -> 16.783721
A48: 3234 | B48: Komunalne usluge | C48: 2987.0263 | E48: 1880.06 | F48: =(E48/C48)*100 -> 62.940858
A49: 3235 | B49: Zakupnine i najamnine | C49: 15342.242 | E49: 13529.87 | F49: =(E49/C49)*100 -> 88.187048
A50: 3236 | B50: Zdravstvene i veterinarske usluge | C50: 3216.8001 | E50: 0 | F50: -
A51: 3237 | B51: Intelektualne i osobne usluge | C51: 11204.594 | E51: 20298.02 | F51: =(E51/C51)*100 -> 181.15802
A52: 3238 | B52: Računalne usluge | C52: 742.41821 | E52: 817.44 | F52: =(E52/C52)*100 -> 110.10506
A53: 3239 | B53: Ostale usluge | C53: 2437.6906 | E53: 2362.31 | F53: =(E53/C53)*100 -> 96.907703
A54: 324 | B54: Naknade troškova osobama izvan radnog odnosa | C54: =C55 -> 3996.9885 | D54: 6600 | E54: =E55 -> 7278.89 | F54: =(E54/C54)*100 -> 182.10935 | G54: =(E54/D54)*100 -> 110.28621
A55: 3241 | B55: Naknade troškova osobama izvan radnog odnosa | C55: 3996.9885 | E55: 7278.89 | F55: =(E55/C55)*100 -> 182.10935
A56: 329 | B56: Ostali nespomenuti rashodi poslovanja | C56: =C57+C58+C59+C60+C61 -> 22572.502 | D56: 36310 | E56: =E57+E58+E59+E60+E61 -> 11058.57 | F56: =(E56/C56)*100 -> 48.991334 | G56: =(E56/D56)*100 -> 30.45599
A57: 3291 | B57: Naknade za rad predstavničkih i izvršnih tijela, povjerenstava i slično | C57: 6272.3512 | E57: 3168.45 | F57: =(E57/C57)*100 -> 50.51455
A58: 3293 | B58: Reprezentacija | C58: 9908.2514 | E58: 4057.04 | F58: =(E58/C58)*100 -> 40.946075
A59: 3294 | B59: Članarine i norme | C59: 2057.3097 | E59: 2618.6 | F59: =(E59/C59)*100 -> 127.28273
A60: 3295 | B60: Pristojbe i naknade | C60: 4306.2194 | E60: 946.99 | F60: =(E60/C60)*100 -> 21.991216
A61: 3299 | B61: Ostali nespomenuti rashodi poslovanja | C61: 28.370828 | E61: 267.49 | F61: =(E61/C61)*100 -> 942.83468
A62: 34 | B62: Financijski rashodi | C62: =C63 -> 1032.0632 | D62: =D63 -> 3360 | E62: =E63 -> 882.85 | F62: =(E62/C62)*100 -> 85.542244 | G62: =(E62/D62)*100 -> 26.275298
A63: 343 | B63: Ostali financijski rashodi | C63: =C64+C65 -> 1032.0632 | D63: 3360 | E63: =E64+E65 -> 882.85 | F63: =(E63/C63)*100 -> 85.542244 | G63: =(E63/D63)*100 -> 26.275298
A64: 3431 | B64: Bankarske usluge i usluge platnog prometa | C64: 812.15608 | E64: 881.69 | F64: =(E64/C64)*100 -> 108.56164
A65: 3433 | B65: Zatezne kamate | C65: 219.90709 | E65: 1.16 | F65: =(E65/C65)*100 -> 0.52749549
A66: 37 | B66: Naknade građanima i kućanstvima na temelju osiguranja i druge naknade | C66: =C67 -> 2123.5636 | D66: =D67 -> 6900 | E66: =E67 -> 5160 | F66: =(E66/C66)*100 -> 242.98778 | G66: =(E66/D66)*100 -> 74.782609
A67: 372 | B67: Ostale naknade građanima i kućanstvima iz proračuna | C67: =C68 -> 2123.5636 | D67: 6900 | E67: =E68 -> 5160 | F67: =(E67/C67)*100 -> 242.98778 | G67: =(E67/D67)*100 -> 74.782609
A68: 3721 | B68: Naknade građanima i kućanstvima u novcu | C68: 2123.5636 | E68: 5160 | F68: =(E68/C68)*100 -> 242.98778
A69: 4 | B69: RASHODI ZA NABAVU NEFINANCIJSKE IMOVINE | C69: =C70 -> 6871.0678 | D69: =D70 -> 109060 | E69: =E70 -> 588.18 | F69: =(E69/C69)*100 -> 8.5602416 | G69: =(E69/D69)*100 -> 0.53931781
A70: 42 | B70: Rashodi za nabavu proizvedene dugotrajne imovine | C70: =C71+C74 -> 6871.0678 | D70: =D71+D74 -> 109060 | E70: =E71+E74 -> 588.18 | F70: =(E70/C70)*100 -> 8.5602416 | G70: =(E70/D70)*100 -> 0.53931781
A71: 422 | B71: Postrojenja i oprema | C71: =C72+C73 -> 6740.9994 | D71: 97500 | E71: =E72+E73 -> 398.18 | F71: =(E71/C71)*100 -> 5.9068393 | G71: =(E71/D71)*100 -> 0.40838974
A72: 4221 | B72: Uredska oprema i namještaj | C72: 1103.4654 | E72: 398.18 | F72: =(E72/C72)*100 -> 36.084503
A73: 4226 | B73: Sportska i glazbena oprema | C73: 5637.534 | E73: 0 | F73: -
A74: 424 | B74: Knjige, umjetnička djela i ostale izložbene vrijednosti | C74: =C75 -> 130.06835 | D74: 11560 | E74: =E75 -> 190 | F74: =(E74/C74)*100 -> 146.07704 | G74: =(E74/D74)*100 -> 1.6435986
A75: 4241 | B75: Knjige | C75: 130.06835 | E75: 190 | F75: =(E75/C75)*100 -> 146.07704
A76: 5 | B76: IZDACI ZA FINANCIJSKU IMOVINU I OTPLATE ZAJMOVA | C76: =C77 -> 187.13916 | D76: =D77 -> 400 | E76: =E77 -> 187.14 | F76: - | G76: -
A77: 54 | B77: Izdaci za otplatu glavnice primljenih kredita i zajmova | C77: =C78 -> 187.13916 | D77: =D78 -> 400 | E77: =E78 -> 187.14 | F77: - | G77: -
A78: 545 | B78: Otplata glavnice primljenih zajmova od trgovačkih društava i obrtnika izvan javnog sektora | C78: =C79 -> 187.13916 | D78: 400 | E78: =E79 -> 187.14 | F78: - | G78: -
A79: 5453 | B79: Otplata glavnice primljenih zajmova od tuzemnih trgovačkih društava izvan javnog sektora | C79: 187.13916 | E79: 187.14 | F79: -

Sheet OPĆI DIO (izv. po izv. fin.)
A1: Brojčana | B1: Naziv računa | C1: Izvršenje | D1: Izvorni | E1: Izvršenje | F1: Indeks | G1: Indeks
A2: oznaka | C2: za 1.-6. 2022. | D2: plan 2023. | E2: za 1.-6. 2023. | F2: 5/3 | G2: 5/4
A3: 1 | B3: 2 | C3: 3 | D3: 4 | E3: 5 | F3: 6 | G3: 7
A4: 1 | B4: Opći prihodi i primci
A5: 1.2.2 i 1.1.3 | B5: PRIHODI | C5: =419032.35/7.5345 -> 55615.15 | D5: 175470 | E5: 53885.4 | F5: =(E5/C5)*100 -> 96.889786 | G5: =(E5/D5)*100 -> 30.709181
A6: 1.2.2 i 1.1.3 | B6: RASHODI | C6: =281907.35/7.5345 -> 37415.535 | D6: 175470 | E6: 57602.97 | F6: =(E6/C6)*100 -> 153.95469 | G6: =(E6/D6)*100 -> 32.827817
A7: 3 | B7: Vlastiti prihodi
A8: 3.1.1 | B8: PRIHODI | C8: =5.43/7.5345 -> 0.72068485 | D8: 100 | E8: 0.01 | F8: =(E8/C8)*100 -> 1.3875691 | G8: =(E8/D8)*100 -> 0.01
A9: 3.1.1 | B9: RASHODI | C9: =5.43/7.5345 -> 0.72068485 | D9: 100 | E9: 0.01 | F9: =(E9/C9)*100 -> 1.3875691 | G9: =(E9/D9)*100 -> 0.01
A10: 4 | B10: Prihodi za posebne namjene
A11: 4.3.1 | B11: PRIHODI | C11: =552664.4/7.5345 -> 73351.171 | D11: 107300 | E11: 66721.4 | F11: =(E11/C11)*100 -> 90.961601 | G11: =(E11/D11)*100 -> 62.182106
A12: 4.3.1 | B12: RASHODI | C12: =492722.26/7.5345 -> 65395.482 | D12: 152400 | E12: 61946.11 | F12: =(E12/C12)*100 -> 94.725366 | G12: =(E12/D12)*100 -> 40.647054
A13: 4.3.1 | B13: PRENESENI VIŠAK PRIHODA | C13: 63590.732 | D13: 45100 | E13: 83965.12 | F13: =(E13/C13)*100 -> 132.03987 | G13: =(E13/D13)*100 -> 186.17543
A14: 5 | B14: Pomoći iz drugih proračuna
A15: 5.2.1 | B15: PRIHODI | C15: =4454830.72/7.5345 -> 591257.64 | D15: 1264000 | E15: 657113 | F15: =(E15/C15)*100 -> 111.13818 | G15: =(E15/D15)*100 -> 51.986788
A16: 5.2.1 | B16: RASHODI | C16: =4457604.68/7.5345 -> 591625.81 | D16: 1264000 | E16: 655798.19 | F16: =(E16/C16)*100 -> 110.84678 | G16: =(E16/D16)*100 -> 51.882768
A17: 6 | B17: Donacije
A18: 6.1.1 | B18: PRIHODI | C18: 0 | D18: 3100 | E18: 0 | F18: - | G18: =(E18/D18)*100 -> 0
A19: 6.1.1 | B19: RASHODI | C19: 0 | D19: 3100 | E19: 0 | F19: - | G19: =(E19/D19)*100 -> 0
A20: UKUPNO PRIHODI | C20: =C5+C8+C11+C15+C18 -> 720224.69 | D20: =D5+D8+D11+D15+D18 -> 1549970 | E20: =E5+E8+E11+E15+E18 -> 777719.81 | F20: =(E20/C20)*100 -> 107.98294 | G20: =(E20/D20)*100 -> 50.176443
A21: PRENESENI VIŠAK PRIHODA | C21: =C13 -> 63590.732 | D21: =D13 -> 45100 | E21: =E13 -> 83965.12 | F21: =(E21/C21)*100 -> 132.03987 | G21: =(E21/D21)*100 -> 186.17543
A22: UKUPNO PRIHODI + PRENESENI VIŠAK PRIHODA | C22: =C20 -> 720224.69 | D22: =D20+D21 -> 1595070 | E22: =E20 -> 777719.81 | F22: =(E22/C22)*100 -> 107.98294 | G22: =(E22/D22)*100 -> 48.757723
A23: UKUPNO RASHODI | C23: =C6+C9+C12+C16+C19 -> 694437.55 | D23: =D6+D9+D12+D16+D19 -> 1595070 | E23: =E6+E9+E12+E16+E19 -> 775347.28 | F23: =(E23/C23)*100 -> 111.65112 | G23: =(E23/D23)*100 -> 48.608981

Sheet OPĆI DIO (izv. po funk. klas.)
A1: Brojčana | B1: Naziv računa | C1: Izvršenje | D1: Izvorni | E1: Izvršenje | F1: Indeks | G1: Indeks
A2: oznaka | C2: za 1.-6. 2022. | D2: plan 2023. | E2: za 1.-6. 2023. | F2: 5/3 | G2: 5/4
A3: 1 | B3: 2 | C3: 3 | D3: 4 | E3: 5 | F3: 6 | G3: 7
A4: 09 | B4: Obrazovanje | C4: =C5 -> 694437.55 | D4: =D5 -> 1595070 | E4: =E5 -> 775347.28 | F4: =F5 -> 111.65112 | G4: =G5 -> 48.608981
A5: 092 | B5: Srednjoškolsko obrazovanje | C5: =C6 -> 694437.55 | D5: =D6 -> 1595070 | E5: =E6 -> 775347.28 | F5: ='OPĆI DIO (izv. po izv. fin.)'!F23 -> 111.65112 | G5: ='OPĆI DIO (izv. po izv. fin.)'!G23 -> 48.608981
A6: 0922 | B6: Više srednjoškolsko obrazovanje | C6: ='OPĆI DIO (izv. po izv. fin.)'!C23 -> 694437.55 | D6: ='OPĆI DIO (izv. po izv. fin.)'!D23 -> 1595070 | E6: ='OPĆI DIO (izv. po izv. fin.)'!E23 -> 775347.28 | F6: ='OPĆI DIO (izv. po izv. fin.)'!F23 -> 111.65112 | G6: ='OPĆI DIO (izv. po izv. fin.)'!G23 -> 48.608981

Sheet POSEBNI DIO (po projekt. klas.)
A1: Brojčana | C1: Izvorni | D1: Izvršenje | E1: Indeks | F1: Izvor
A2: oznaka | C2: plan 2023. | D2: za 1.-6. 2023. | E2: 4/3 | F2: financiranja
A3: 1 | B3: 2 | C3: 3 | D3: 4 | E3: 5 | F3: 6
A4: SVEUKUPNO RASHODI | C4: =C8+C19+C51+C59+C101+C131+C135+C142+C147+C156+C161+C166+C172+C181+C187 -> 1595070 | D4: =D8+D19+D51+D59+D101+D131+D135+D142+D147+D156+D161+D166+D172+D181+D187 -> 775637.44 | E4: =(D4/C4)*100 -> 48.627172 | F4: X
A5: A024109 DJELATNOST USTANOVA SREDNJEG ŠKOLSTVA I UČENIČKIH DOMOVA | F5: X
A6: A024109A410901 REDOVNA DJELATNOST SREDNJIH ŠKOLA I UČENIČKIH DOMOVA | F6: X
A7: Izvor 1.1.3 OPĆI PRIHODI I PRIMICI – POJAČANI STANDARD | F7: 1.1.3
A8: 3 | B8: RASHODI POSLOVANJA | C8: =C9 -> 8490 | D8: =D9 -> 881.96 | E8: =(D8/C8)*100 -> 10.388221 | F8: 1.1.3
A9: 32 | B9: Materijalni rashodi | C9: =C10+C12+C14+C16 -> 8490 | D9: =D10+D12+D14+D16 -> 881.96 | E9: =(D9/C9)*100 -> 10.388221 | F9: 1.1.3
A10: 321 | B10: Naknade troškova zaposlenima | C10: =C11 -> 2120 | D10: =D11 -> 0 | E10: =(D10/C10)*100 -> 0 | F10: 1.1.3
A11: 3212 | B11: Naknade za prijevoz, za rad na terenu i odvojeni život | C11: 2120 | D11: 0 | E11: =(D11/C11)*100 -> 0 | F11: 1.1.3
A12: 322 | B12: Rashodi za materijal i energiju | C12: =C13 -> 1460 | D12: =D13 -> 0 | E12: =(D12/C12)*100 -> 0 | F12: 1.1.3
A13: 3223 | B13: Energija | C13: 1460 | D13: 0 | E13: =(D13/C13)*100 -> 0 | F13: 1.1.3
A14: 323 | B14: Rashodi za usluge | C14: =C15 -> 2790 | D14: =D15 -> 0 | E14: =(D14/C14)*100 -> 0 | F14: 1.1.3
A15: 3236 | B15: Zdravstvene i veterinarske usluge | C15: 2790 | D15: 0 | E15: =(D15/C15)*100 -> 0 | F15: 1.1.3
A16: 329 | B16: Ostali nespomenuti rashodi poslovanja | C16: =C17 -> 2120 | D16: =D17 -> 881.96 | E16: =(D16/C16)*100 -> 41.601887 | F16: 1.1.3
A17: 3291 | B17: Naknade za rad predstavničkih i izvršnih tijela, povjerenstava i slično | C17: 2120 | D17: 881.96 | E17: =(D17/C17)*100 -> 41.601887 | F17: 1.1.3
A18: Izvor 1.2.2 DECENTRALIZIRANA SREDSTVA | F18: 1.2.2
A19: 3 | B19: RASHODI POSLOVANJA | C19: =C20+C45 -> 77900 | D19: =D20+D45 -> 37646.9 | E19: =(D19/C19)*100 -> 48.327214 | F19: 1.2.2
A20: 32 | B20: Materijalni rashodi | C20: =C21+C25+C30+C40 -> 76840 | D20: =D21+D25+D30+D40 -> 37303.32 | E20: =(D20/C20)*100 -> 48.546746 | F20: 1.2.2
A21: 321 | B21: Naknade troškova zaposlenima | C21: =C22+C23+C24 -> 26950 | D21: =D22+D23+D24 -> 13471.09 | E21: =(D21/C21)*100 -> 49.985492 | F21: 1.2.2
A22: 3211 | B22: Službena putovanja | C22: 800 | D22: 391.8 | E22: =(D22/C22)*100 -> 48.975 | F22: 1.2.2
A23: 3212 | B23: Naknade za prijevoz, za rad na terenu i odvojeni život | C23: 25220 | D23: 12579.19 | E23: =(D23/C23)*100 -> 49.877835 | F23: 1.2.2
A24: 3213 | B24: Stručno usavršavanje zaposlenika | C24: 930 | D24: 500.1 | E24: =(D24/C24)*100 -> 53.774194 | F24: 1.2.2
A25: 322 | B25: Rashodi za materijal i energiju | C25: =C26+C27+C28+C29 -> 14200 | D25: =D26+D27+D28+D29 -> 8214.61 | E25: =(D25/C25)*100 -> 57.849366 | F25: 1.2.2
A26: 3221 | B26: Uredski materijal i ostali materijalni rashodi | C26: 5570 | D26: 2446.32 | E26: =(D26/C26)*100 -> 43.919569 | F26: 1.2.2
A27: 3223 | B27: Energija | C27: 4910 | D27: 5202.62 | E27: =(D27/C27)*100 -> 105.95967 | F27: 1.2.2
A28: 3224 | B28: Materijal i dijelovi za tekuće i investicijsko održavanje | C28: 2920 | D28: 145.19 | E28: =(D28/C28)*100 -> 4.9722603 | F28: 1.2.2
A29: 3225 | B29: Sitni inventar i auto gume | C29: 800 | D29: 420.48 | E29: =(D29/C29)*100 -> 52.56 | F29: 1.2.2
A30: 323 | B30: Rashodi za usluge | C30: =C31+C32+C33+C34+C35+C36+C37+C38+C39 -> 33570 | D30: =D31+D32+D33+D34+D35+D36+D37+D38+D39 -> 15101.67 | E30: =(D30/C30)*100 -> 44.985612 | F30: 1.2.2
A31: 3231 | B31: Usluge telefona, pošte i prijevoza | C31: 1990 | D31: 915.96 | E31: =(D31/C31)*100 -> 46.028141 | F31: 1.2.2
A32: 3232 | B32: Usluge tekućeg i investicijskog održavanja | C32: 16190 | D32: 1256.64 | E32: =(D32/C32)*100 -> 7.7618283 | F32: 1.2.2
A33: 3233 | B33: Usluge promidžbe i informiranja | C33: 400 | D33: 127.44 | E33: =(D33/C33)*100 -> 31.86 | F33: 1.2.2
A34: 3234 | B34: Komunalne usluge | C34: 8890 | D34: 1880.06 | E34: =(D34/C34)*100 -> 21.148031 | F34: 1.2.2
A35: 3235 | B35: Zakupnine i najamnine | C35: 0 | D35: 9090.87 | E35: - | F35: 1.2.2
A36: 3236 | B36: Zdravstvene i veterinarske usluge | C36: 2520 | D36: 0 | E36: =(D36/C36)*100 -> 0 | F36: 1.2.2
A37: 3237 | B37: Intelektualne i osobne usluge | C37: 1060 | D37: 441.88 | E37: =(D37/C37)*100 -> 41.686792 | F37: 1.2.2
A38: 3238 | B38: Računalne usluge | C38: 1330 | D38: 739.02 | E38: =(D38/C38)*100 -> 55.565414 | F38: 1.2.2
A39: 3239 | B39: Ostale usluge | C39: 1190 | D39: 649.8 | E39: =(D39/C39)*100 -> 54.605042 | F39: 1.2.2
A40: 329 | B40: Ostali nespomenuti rashodi poslovanja | C40: =C41+C42+C43+C44 -> 2120 | D40: =D41+D42+D43+D44 -> 515.95 | E40: =(D40/C40)*100 -> 24.337264 | F40: 1.2.2
A41: 3292 | B41: Premije osiguranja | C41: 530 | D41: 0 | E41: =(D41/C41)*100 -> 0 | F41: 1.2.2
A42: 3293 | B42: Reprezentacija | C42: 270 | D42: 160.86 | E42: =(D42/C42)*100 -> 59.577778 | F42: 1.2.2
A43: 3294 | B43: Članarine i norme | C43: 130 | D43: 87.6 | E43: =(D43/C43)*100 -> 67.384615 | F43: 1.2.2
A44: 3299 | B44: Ostali nespomenuti rashodi poslovanja | C44: 1190 | D44: 267.49 | E44: =(D44/C44)*100 -> 22.478151 | F44: 1.2.2
A45: 34 | B45: Financijski rashodi | C45: =C46 -> 1060 | D45: =D46 -> 343.58 | E45: =(D45/C45)*100 -> 32.413208 | F45: 1.2.2
A46: 343 | B46: Ostali financijski rashodi | C46: =C47+C48+C49 -> 1060 | D46: =D47+D48+D49 -> 343.58 | E46: =(D46/C46)*100 -> 32.413208 | F46: 1.2.2
A47: 3431 | B47: Bankarske usluge i usluge platnog prometa | C47: 660 | D47: 342.42 | E47: =(D47/C47)*100 -> 51.881818 | F47: 1.2.2
A48: 3433 | B48: Zatezne kamate | C48: 270 | D48: 1.16 | E48: =(D48/C48)*100 -> 0.42962963 | F48: 1.2.2
A49: 3434 | B49: Ostali nespomenuti financijski rashodi | C49: 130 | D49: 0 | E49: =(D49/C49)*100 -> 0 | F49: 1.2.2
A50: Izvor 3.1.1 VLASTITI PRIHODI | F50: 3.1.1
A51: 3 | B51: RASHODI POSLOVANJA | C51: =C52+C55 -> 100 | D51: =D52+D55 -> 0.01 | E51: =(D51/C51)*100 -> 0.01 | F51: 3.1.1
A52: 32 | B52: Materijalni rashodi | C52: =C53 -> 0 | D52: =D53 -> 0 | E52: - | F52: 3.1.1
A53: 321 | B53: Naknade troškova zaposlenima | C53: =C54 -> 0 | D53: =D54 -> 0 | E53: - | F53: 3.1.1
A54: 3211 | B54: Službena putovanja | C54: 0 | D54: 0 | E54: - | F54: 3.1.1
A55: 34 | B55: Financijski rashodi | C55: =C56 -> 100 | D55: =D56 -> 0.01 | E55: =(D55/C55)*100 -> 0.01 | F55: 3.1.1
A56: 343 | B56: Ostali financijski rashodi | C56: =C57 -> 100 | D56: =D57 -> 0.01 | E56: =(D56/C56)*100 -> 0.01 | F56: 3.1.1
A57: 3431 | B57: Bankarske usluge i usluge platnog prometa | C57: 100 | D57: 0.01 | E57: =(D57/C57)*100 -> 0.01 | F57: 3.1.1
A58: Izvor 4.3.1 PRIHODI ZA POSEBNE NAMJENE | F58: 4.3.1
A59: 3 | B59: RASHODI POSLOVANJA | C59: =C60+C65+C95 -> 125000 | D59: =D60+D65+D95 -> 61650.95 | E59: =(D59/C59)*100 -> 49.32076 | F59: 4.3.1
A60: 31 | B60: Rashodi za zaposlene | C60: =C61+C63 -> 1000 | D60: =D61+D63 -> 0 | E60: =(D60/C60)*100 -> 0 | F60: 4.3.1
A61: 311 | B61: Plaće (Bruto) | C61: =C62 -> 700 | D61: =D62 -> 0 | E61: =(D61/C61)*100 -> 0 | F61: 4.3.1
A62: 3111 | B62: Plaće za redovan rad | C62: 700 | D62: 0 | E62: =(D62/C62)*100 -> 0 | F62: 4.3.1
A63: 313 | B63: Doprinosi na plaće | C63: =C64 -> 300 | D63: =D64 -> 0 | E63: =(D63/C63)*100 -> 0 | F63: 4.3.1
A64: 3132 | B64: Doprinosi za obvezno zdravstveno osiguranje | C64: 300 | D64: 0 | E64: =(D64/C64)*100 -> 0 | F64: 4.3.1
A65: 32 | B65: Materijalni rashodi | C65: =C66+C70+C76+C86+C88 -> 122500 | D65: =D66+D70+D76+D86+D88 -> 61111.69 | E65: =(D65/C65)*100 -> 49.887094 | F65: 4.3.1
A66: 321 | B66: Naknade troškova zaposlenima | C66: =C67+C68+C69 -> 22500 | D66: =D67+D68+D69 -> 23904.51 | E66: =(D66/C66)*100 -> 106.24227 | F66: 4.3.1
A67: 3211 | B67: Službena putovanja | C67: 20600 | D67: 23821.25 | E67: =(D67/C67)*100 -> 115.63714 | F67: 4.3.1
A68: 3213 | B68: Stručno usavršavanje zaposlenika | C68: 1600 | D68: 83.26 | E68: =(D68/C68)*100 -> 5.20375 | F68: 4.3.1
A69: 3214 | B69: Ostale naknade troškova zaposlenima | C69: 300 | D69: 0 | E69: =(D69/C69)*100 -> 0 | F69: 4.3.1
A70: 322 | B70: Rashodi za materijal i energiju | C70: =C71+C72+C73+C74+C75 -> 20100 | D70: =D71+D72+D73+D74+D75 -> 2019.69 | E70: =(D70/C70)*100 -> 10.048209 | F70: 4.3.1
A71: 3221 | B71: Uredski materijal i ostali materijalni rashodi | C71: 3500 | D71: 1510.58 | E71: =(D71/C71)*100 -> 43.159429 | F71: 4.3.1
A72: 3222 | B72: Materijal i sirovine | C72: 1100 | D72: 253.07 | E72: =(D72/C72)*100 -> 23.006364 | F72: 4.3.1
A73: 3223 | B73: Energija | C73: 4000 | D73: 0 | E73: =(D73/C73)*100 -> 0 | F73: 4.3.1
A74: 3224 | B74: Materijal i dijelovi za tekuće i investicijsko održavanje | C74: 2700 | D74: 0 | E74: =(D74/C74)*100 -> 0 | F74: 4.3.1
A75: 3225 | B75: Sitni inventar i auto gume | C75: 8800 | D75: 256.04 | E75: =(D75/C75)*100 -> 2.9095455 | F75: 4.3.1
A76: 323 | B76: Rashodi za usluge | C76: =C77+C78+C79+C80+C81+C82+C83+C84+C85 -> 53400 | D76: =D77+D78+D79+D80+D81+D82+D83+D84+D85 -> 20607.27 | E76: =(D76/C76)*100 -> 38.590393 | F76: 4.3.1
A77: 3231 | B77: Usluge telefona, pošte i prijevoza | C77: 1300 | D77: 537.89 | E77: =(D77/C77)*100 -> 41.376154 | F77: 4.3.1
A78: 3232 | B78: Usluge tekućeg i investicijskog održavanja | C78: 14100 | D78: 5070.69 | E78: =(D78/C78)*100 -> 35.96234 | F78: 4.3.1
A79: 3233 | B79: Usluge promidžbe i informiranja | C79: 1100 | D79: 0 | E79: =(D79/C79)*100 -> 0 | F79: 4.3.1
A80: 3234 | B80: Komunalne usluge | C80: 1300 | D80: 0 | E80: =(D80/C80)*100 -> 0 | F80: 4.3.1
A81: 3235 | B81: Zakupnine i najamnine | C81: 17900 | D81: 4439 | E81: =(D81/C81)*100 -> 24.798883 | F81: 4.3.1
A82: 3236 | B82: Zdravstvene i veterinarske usluge | C82: 1300 | D82: 0 | E82: =(D82/C82)*100 -> 0 | F82: 4.3.1
A83: 3237 | B83: Intelektualne i osobne usluge | C83: 11300 | D83: 8767.1 | E83: =(D83/C83)*100 -> 77.584956 | F83: 4.3.1
A84: 3238 | B84: Računalne usluge | C84: 2400 | D84: 80.08 | E84: =(D84/C84)*100 -> 3.3366667 | F84: 4.3.1
A85: 3239 | B85: Ostale usluge | C85: 2700 | D85: 1712.51 | E85: =(D85/C85)*100 -> 63.426296 | F85: 4.3.1
A86: 324 | B86: Naknade troškova osobama izvan radnog odnosa | C86: =C87 -> 6600 | D86: =D87 -> 7278.89 | E86: =(D86/C86)*100 -> 110.28621 | F86: 4.3.1
A87: 3241 | B87: Naknade troškova osobama izvan radnog odnosa | C87: 6600 | D87: 7278.89 | E87: =(D87/C87)*100 -> 110.28621 | F87: 4.3.1
A88: 329 | B88: Ostali nespomenuti rashodi poslovanja | C88: =C89+C90+C91+C92+C93+C94 -> 19900 | D88: =D89+D90+D91+D92+D93+D94 -> 7301.33 | E88: =(D88/C88)*100 -> 36.690101 | F88: 4.3.1
A89: 3291 | B89: Naknade za rad predstavničkih i izvršnih tijela, povjerenstava i slično | C89: 2000 | D89: 673.74 | E89: =(D89/C89)*100 -> 33.687 | F89: 4.3.1
A90: 3292 | B90: Premije osiguranja | C90: 300 | D90: 0 | E90: =(D90/C90)*100 -> 0 | F90: 4.3.1
A91: 3293 | B91: Reprezentacija | C91: 12600 | D91: 3896.18 | E91: =(D91/C91)*100 -> 30.922063 | F91: 4.3.1
A92: 3294 | B92: Članarine i norme | C92: 4000 | D92: 2531 | E92: =(D92/C92)*100 -> 63.275 | F92: 4.3.1
A93: 3295 | B93: Pristojbe i naknade | C93: 700 | D93: 200.41 | E93: =(D93/C93)*100 -> 28.63 | F93: 4.3.1
A94: 3299 | B94: Ostali nespomenuti rashodi poslovanja | C94: 300 | D94: 0 | E94: =(D94/C94)*100 -> 0 | F94: 4.3.1
A95: 34 | B95: Financijski rashodi | C95: =C96 -> 1500 | D95: =D96 -> 539.26 | E95: =(D95/C95)*100 -> 35.950667 | F95: 4.3.1
A96: 343 | B96: Ostali financijski rashodi | C96: =C97+C98+C99 -> 1500 | D96: =D97+D98+D99 -> 539.26 | E96: =(D96/C96)*100 -> 35.950667 | F96: 4.3.1
A97: 3431 | B97: Bankarske usluge i usluge platnog prometa | C97: 1300 | D97: 539.26 | E97: =(D97/C97)*100 -> 41.481538 | F97: 4.3.1
A98: 3433 | B98: Zatezne kamate | C98: 100 | D98: 0 | E98: =(D98/C98)*100 -> 0 | F98: 4.3.1
A99: 3434 | B99: Ostali nespomenuti financijski rashodi | C99: 100 | D99: 0 | E99: =(D99/C99)*100 -> 0 | F99: 4.3.1
A100: Izvor 5.2.1 POMOĆI IZ DRUGIH PRORAČUNA | F100: 5.2.1
...
